BEGIN:VCALENDAR
VERSION:2.0
PRODID:-//Zion Missionary Baptist Church - ECPv6.15.20//NONSGML v1.0//EN
CALSCALE:GREGORIAN
METHOD:PUBLISH
X-WR-CALNAME:Zion Missionary Baptist Church
X-ORIGINAL-URL:https://zionmbcdallas.org
X-WR-CALDESC:Events for Zion Missionary Baptist Church
REFRESH-INTERVAL;VALUE=DURATION:PT1H
X-Robots-Tag:noindex
X-PUBLISHED-TTL:PT1H
BEGIN:VTIMEZONE
TZID:America/Chicago
BEGIN:DAYLIGHT
TZOFFSETFROM:-0600
TZOFFSETTO:-0500
TZNAME:CDT
DTSTART:20200308T080000
END:DAYLIGHT
BEGIN:STANDARD
TZOFFSETFROM:-0500
TZOFFSETTO:-0600
TZNAME:CST
DTSTART:20201101T070000
END:STANDARD
BEGIN:DAYLIGHT
TZOFFSETFROM:-0600
TZOFFSETTO:-0500
TZNAME:CDT
DTSTART:20210314T080000
END:DAYLIGHT
BEGIN:STANDARD
TZOFFSETFROM:-0500
TZOFFSETTO:-0600
TZNAME:CST
DTSTART:20211107T070000
END:STANDARD
BEGIN:DAYLIGHT
TZOFFSETFROM:-0600
TZOFFSETTO:-0500
TZNAME:CDT
DTSTART:20220313T080000
END:DAYLIGHT
BEGIN:STANDARD
TZOFFSETFROM:-0500
TZOFFSETTO:-0600
TZNAME:CST
DTSTART:20221106T070000
END:STANDARD
END:VTIMEZONE
BEGIN:VEVENT
DTSTART;VALUE=DATE:20210301
DTEND;VALUE=DATE:20210302
DTSTAMP:20260424T004049
CREATED:20210301T151657Z
LAST-MODIFIED:20210301T152018Z
UID:5034-1614556800-1614643199@zionmbcdallas.org
SUMMARY:First Day of Women's History Month
DESCRIPTION:
URL:https://zionmbcdallas.org/event/first-day-of-womens-history-month/
END:VEVENT
BEGIN:VEVENT
DTSTART;VALUE=DATE:20210302
DTEND;VALUE=DATE:20210303
DTSTAMP:20260424T004049
CREATED:20210301T151000Z
LAST-MODIFIED:20210301T151000Z
UID:5019-1614643200-1614729599@zionmbcdallas.org
SUMMARY:Brashaye Davis - Birthday
DESCRIPTION:
URL:https://zionmbcdallas.org/event/brashaye-davis-birthday/
END:VEVENT
BEGIN:VEVENT
DTSTART;VALUE=DATE:20210304
DTEND;VALUE=DATE:20210305
DTSTAMP:20260424T004049
CREATED:20210301T151121Z
LAST-MODIFIED:20210301T151122Z
UID:5022-1614816000-1614902399@zionmbcdallas.org
SUMMARY:Kenneth W Hughes - Birthday
DESCRIPTION:
URL:https://zionmbcdallas.org/event/kenneth-w-hughes-birthday/
END:VEVENT
BEGIN:VEVENT
DTSTART;VALUE=DATE:20210317
DTEND;VALUE=DATE:20210318
DTSTAMP:20260424T004049
CREATED:20210301T150656Z
LAST-MODIFIED:20210301T150656Z
UID:5013-1615939200-1616025599@zionmbcdallas.org
SUMMARY:Opal Jones - Birthday
DESCRIPTION:
URL:https://zionmbcdallas.org/event/opal-jones-birthday/
END:VEVENT
BEGIN:VEVENT
DTSTART;VALUE=DATE:20210324
DTEND;VALUE=DATE:20210325
DTSTAMP:20260424T004049
CREATED:20210301T151214Z
LAST-MODIFIED:20210301T151214Z
UID:5025-1616544000-1616630399@zionmbcdallas.org
SUMMARY:Wanda Brown - Birthday
DESCRIPTION:
URL:https://zionmbcdallas.org/event/wanda-brown-birthday/
END:VEVENT
BEGIN:VEVENT
DTSTART;VALUE=DATE:20210326
DTEND;VALUE=DATE:20210327
DTSTAMP:20260424T004049
CREATED:20210301T151304Z
LAST-MODIFIED:20210301T151305Z
UID:5028-1616716800-1616803199@zionmbcdallas.org
SUMMARY:Sherry Anderson - Birthday
DESCRIPTION:
URL:https://zionmbcdallas.org/event/sherry-anderson-birthday/
END:VEVENT
BEGIN:VEVENT
DTSTART;VALUE=DATE:20210329
DTEND;VALUE=DATE:20210330
DTSTAMP:20260424T004049
CREATED:20210301T151402Z
LAST-MODIFIED:20210301T151402Z
UID:5031-1616976000-1617062399@zionmbcdallas.org
SUMMARY:Christie Choice - Birthday
DESCRIPTION:
URL:https://zionmbcdallas.org/event/christie-choice-birthday/
END:VEVENT
BEGIN:VEVENT
DTSTART;VALUE=DATE:20210330
DTEND;VALUE=DATE:20210331
DTSTAMP:20260424T004049
CREATED:20210301T150846Z
LAST-MODIFIED:20210301T150846Z
UID:5016-1617062400-1617148799@zionmbcdallas.org
SUMMARY:Everett White - Birthday
DESCRIPTION:
URL:https://zionmbcdallas.org/event/everett-white-birthday-2/
END:VEVENT
END:VCALENDAR