BEGIN:VCALENDAR
VERSION:2.0
PRODID:-//Zion Missionary Baptist Church - ECPv6.15.20//NONSGML v1.0//EN
CALSCALE:GREGORIAN
METHOD:PUBLISH
X-ORIGINAL-URL:https://zionmbcdallas.org
X-WR-CALDESC:Events for Zion Missionary Baptist Church
REFRESH-INTERVAL;VALUE=DURATION:PT1H
X-Robots-Tag:noindex
X-PUBLISHED-TTL:PT1H
BEGIN:VTIMEZONE
TZID:America/Chicago
BEGIN:DAYLIGHT
TZOFFSETFROM:-0600
TZOFFSETTO:-0500
TZNAME:CDT
DTSTART:20200308T080000
END:DAYLIGHT
BEGIN:STANDARD
TZOFFSETFROM:-0500
TZOFFSETTO:-0600
TZNAME:CST
DTSTART:20201101T070000
END:STANDARD
BEGIN:DAYLIGHT
TZOFFSETFROM:-0600
TZOFFSETTO:-0500
TZNAME:CDT
DTSTART:20210314T080000
END:DAYLIGHT
BEGIN:STANDARD
TZOFFSETFROM:-0500
TZOFFSETTO:-0600
TZNAME:CST
DTSTART:20211107T070000
END:STANDARD
BEGIN:DAYLIGHT
TZOFFSETFROM:-0600
TZOFFSETTO:-0500
TZNAME:CDT
DTSTART:20220313T080000
END:DAYLIGHT
BEGIN:STANDARD
TZOFFSETFROM:-0500
TZOFFSETTO:-0600
TZNAME:CST
DTSTART:20221106T070000
END:STANDARD
END:VTIMEZONE
BEGIN:VEVENT
DTSTART;TZID=America/Chicago:20210404T104500
DTEND;TZID=America/Chicago:20210404T120000
DTSTAMP:20260423T230428
CREATED:20210402T022130Z
LAST-MODIFIED:20210402T022130Z
UID:5100-1617533100-1617537600@zionmbcdallas.org
SUMMARY:Sunday Service in Zion Parking Lot
DESCRIPTION:
URL:https://zionmbcdallas.org/event/sunday-service-in-zion-parking-lot/
END:VEVENT
BEGIN:VEVENT
DTSTART;VALUE=DATE:20210405
DTEND;VALUE=DATE:20210406
DTSTAMP:20260423T230428
CREATED:20210402T021210Z
LAST-MODIFIED:20210402T021210Z
UID:5085-1617580800-1617667199@zionmbcdallas.org
SUMMARY:Mackenzie Ware - Birthday
DESCRIPTION:
URL:https://zionmbcdallas.org/event/mackenzie-ware-birthday/
END:VEVENT
BEGIN:VEVENT
DTSTART;VALUE=DATE:20210410
DTEND;VALUE=DATE:20210411
DTSTAMP:20260423T230428
CREATED:20210402T021402Z
LAST-MODIFIED:20210402T021402Z
UID:5088-1618012800-1618099199@zionmbcdallas.org
SUMMARY:Daqualon Rudd - Birthday
DESCRIPTION:
URL:https://zionmbcdallas.org/event/daqualon-rudd-birthday-2/
END:VEVENT
BEGIN:VEVENT
DTSTART;VALUE=DATE:20210418
DTEND;VALUE=DATE:20210419
DTSTAMP:20260423T230428
CREATED:20210402T021512Z
LAST-MODIFIED:20210402T021512Z
UID:5091-1618704000-1618790399@zionmbcdallas.org
SUMMARY:Kimberly Smith - Birthday
DESCRIPTION:
URL:https://zionmbcdallas.org/event/kimberly-smith-birthday/
END:VEVENT
BEGIN:VEVENT
DTSTART;VALUE=DATE:20210425
DTEND;VALUE=DATE:20210426
DTSTAMP:20260423T230428
CREATED:20210402T021620Z
LAST-MODIFIED:20210402T021620Z
UID:5093-1619308800-1619395199@zionmbcdallas.org
SUMMARY:Pamela Clark Hayes - Birthday
DESCRIPTION:
URL:https://zionmbcdallas.org/event/pamela-clark-hayes-birthday/
END:VEVENT
BEGIN:VEVENT
DTSTART;VALUE=DATE:20210430
DTEND;VALUE=DATE:20210501
DTSTAMP:20260423T230428
CREATED:20210402T021719Z
LAST-MODIFIED:20210402T021720Z
UID:5097-1619740800-1619827199@zionmbcdallas.org
SUMMARY:Jordan Williams James Foster Jr - Birthday
DESCRIPTION:
URL:https://zionmbcdallas.org/event/jordan-williams-james-foster-jr-birthday/
END:VEVENT
END:VCALENDAR