BEGIN:VCALENDAR
VERSION:2.0
PRODID:-//Zion Missionary Baptist Church - ECPv6.15.20//NONSGML v1.0//EN
CALSCALE:GREGORIAN
METHOD:PUBLISH
X-WR-CALNAME:Zion Missionary Baptist Church
X-ORIGINAL-URL:https://zionmbcdallas.org
X-WR-CALDESC:Events for Zion Missionary Baptist Church
REFRESH-INTERVAL;VALUE=DURATION:PT1H
X-Robots-Tag:noindex
X-PUBLISHED-TTL:PT1H
BEGIN:VTIMEZONE
TZID:America/Chicago
BEGIN:DAYLIGHT
TZOFFSETFROM:-0600
TZOFFSETTO:-0500
TZNAME:CDT
DTSTART:20200308T080000
END:DAYLIGHT
BEGIN:STANDARD
TZOFFSETFROM:-0500
TZOFFSETTO:-0600
TZNAME:CST
DTSTART:20201101T070000
END:STANDARD
BEGIN:DAYLIGHT
TZOFFSETFROM:-0600
TZOFFSETTO:-0500
TZNAME:CDT
DTSTART:20210314T080000
END:DAYLIGHT
BEGIN:STANDARD
TZOFFSETFROM:-0500
TZOFFSETTO:-0600
TZNAME:CST
DTSTART:20211107T070000
END:STANDARD
BEGIN:DAYLIGHT
TZOFFSETFROM:-0600
TZOFFSETTO:-0500
TZNAME:CDT
DTSTART:20220313T080000
END:DAYLIGHT
BEGIN:STANDARD
TZOFFSETFROM:-0500
TZOFFSETTO:-0600
TZNAME:CST
DTSTART:20221106T070000
END:STANDARD
END:VTIMEZONE
BEGIN:VEVENT
DTSTART;TZID=America/Chicago:20210605T100000
DTEND;TZID=America/Chicago:20210605T120000
DTSTAMP:20260423T202525
CREATED:20210604T064411Z
LAST-MODIFIED:20210606T064719Z
UID:5260-1622887200-1622894400@zionmbcdallas.org
SUMMARY:Church Business Meeting
DESCRIPTION:All Zion Members are invited to meeting!
URL:https://zionmbcdallas.org/event/church-business-meeting-6/
ATTACH;FMTTYPE=image/jpeg:https://zionmbcdallas.org/wp-content/uploads/2019/10/thumbnail_FB_IMG_1569247056511.jpg
END:VEVENT
BEGIN:VEVENT
DTSTART;VALUE=DATE:20210606
DTEND;VALUE=DATE:20210607
DTSTAMP:20260423T202525
CREATED:20210606T063734Z
LAST-MODIFIED:20210606T162709Z
UID:5247-1622937600-1623023999@zionmbcdallas.org
SUMMARY:Pastor Gerald Mitchell - Trusting Him Through The Strom (Mark 4:35-41)
DESCRIPTION:https://fb.watch/5YH-iw0Kkj/
URL:https://zionmbcdallas.org/event/5247/
ATTACH;FMTTYPE=image/jpeg:https://zionmbcdallas.org/wp-content/uploads/2021/05/Screenshot_20210502-110021_Facebook.jpg
END:VEVENT
BEGIN:VEVENT
DTSTART;VALUE=DATE:20210609
DTEND;VALUE=DATE:20210610
DTSTAMP:20260423T202525
CREATED:20210606T062746Z
LAST-MODIFIED:20210606T062746Z
UID:5228-1623196800-1623283199@zionmbcdallas.org
SUMMARY:Sis Cheryl Green - Birthday
DESCRIPTION:
URL:https://zionmbcdallas.org/event/sis-cheryl-green-birthday-3/
END:VEVENT
BEGIN:VEVENT
DTSTART;VALUE=DATE:20210611
DTEND;VALUE=DATE:20210612
DTSTAMP:20260423T202525
CREATED:20210606T062901Z
LAST-MODIFIED:20210606T062901Z
UID:5231-1623369600-1623455999@zionmbcdallas.org
SUMMARY:Sis Lakiesha Rudd  - Birthday
DESCRIPTION:
URL:https://zionmbcdallas.org/event/sis-lakiesha-rudd-birthday-3/
END:VEVENT
BEGIN:VEVENT
DTSTART;VALUE=DATE:20210613
DTEND;VALUE=DATE:20210614
DTSTAMP:20260423T202525
CREATED:20210606T063008Z
LAST-MODIFIED:20210606T063008Z
UID:5234-1623542400-1623628799@zionmbcdallas.org
SUMMARY:Sis Kimberly Wilson - Birthday
DESCRIPTION:
URL:https://zionmbcdallas.org/event/sis-kimberly-wilson-birthday-2/
END:VEVENT
BEGIN:VEVENT
DTSTART;VALUE=DATE:20210613
DTEND;VALUE=DATE:20210614
DTSTAMP:20260423T202525
CREATED:20210606T063822Z
LAST-MODIFIED:20210614T015238Z
UID:5250-1623542400-1623628799@zionmbcdallas.org
SUMMARY:Trusting God Through Your Storms - Matthew 14:22-30
DESCRIPTION:
URL:https://zionmbcdallas.org/event/5250/
ATTACH;FMTTYPE=image/jpeg:https://zionmbcdallas.org/wp-content/uploads/2021/05/Screenshot_20210502-110021_Facebook.jpg
END:VEVENT
BEGIN:VEVENT
DTSTART;VALUE=DATE:20210615
DTEND;VALUE=DATE:20210616
DTSTAMP:20260423T202525
CREATED:20210606T063104Z
LAST-MODIFIED:20210606T063104Z
UID:5237-1623715200-1623801599@zionmbcdallas.org
SUMMARY:Rev Wayne E Croomes  - Birthday
DESCRIPTION:
URL:https://zionmbcdallas.org/event/rev-wayne-e-croomes-birthday-3/
END:VEVENT
BEGIN:VEVENT
DTSTART;VALUE=DATE:20210620
DTEND;VALUE=DATE:20210621
DTSTAMP:20260423T202525
CREATED:20210606T063209Z
LAST-MODIFIED:20210606T063209Z
UID:5240-1624147200-1624233599@zionmbcdallas.org
SUMMARY:Bro Henry D Williams  - Birthday
DESCRIPTION:
URL:https://zionmbcdallas.org/event/bro-henry-d-williams-birthday-3/
END:VEVENT
BEGIN:VEVENT
DTSTART;VALUE=DATE:20210620
DTEND;VALUE=DATE:20210621
DTSTAMP:20260423T202525
CREATED:20210606T063908Z
LAST-MODIFIED:20210620T163439Z
UID:5253-1624147200-1624233599@zionmbcdallas.org
SUMMARY:Pastor Gerald Mitchell - When A Father Gets His House In Order (Genesis 35:1-5)
DESCRIPTION:https://fb.watch/6f8nF6AcJU/
URL:https://zionmbcdallas.org/event/5253/
ATTACH;FMTTYPE=image/jpeg:https://zionmbcdallas.org/wp-content/uploads/2021/05/Screenshot_20210502-110021_Facebook.jpg
END:VEVENT
BEGIN:VEVENT
DTSTART;VALUE=DATE:20210626
DTEND;VALUE=DATE:20210627
DTSTAMP:20260423T202525
CREATED:20210612T021621Z
LAST-MODIFIED:20210612T021645Z
UID:5307-1624665600-1624751999@zionmbcdallas.org
SUMMARY:Zion Special Business Meeting
DESCRIPTION:Members of Zion are asked to attend meeting at the Church in the Fellowship hall at 10:00am.
URL:https://zionmbcdallas.org/event/zion-special-business-meeting/
END:VEVENT
BEGIN:VEVENT
DTSTART;VALUE=DATE:20210627
DTEND;VALUE=DATE:20210628
DTSTAMP:20260423T202525
CREATED:20210606T064004Z
LAST-MODIFIED:20210606T064004Z
UID:5256-1624752000-1624838399@zionmbcdallas.org
SUMMARY:
DESCRIPTION:
URL:https://zionmbcdallas.org/event/5256/
ATTACH;FMTTYPE=image/jpeg:https://zionmbcdallas.org/wp-content/uploads/2021/05/Screenshot_20210502-110021_Facebook.jpg
END:VEVENT
BEGIN:VEVENT
DTSTART;VALUE=DATE:20210630
DTEND;VALUE=DATE:20210701
DTSTAMP:20260423T202525
CREATED:20210606T063340Z
LAST-MODIFIED:20210606T063340Z
UID:5243-1625011200-1625097599@zionmbcdallas.org
SUMMARY:Bro Kendre Choice  - Birthday
DESCRIPTION:
URL:https://zionmbcdallas.org/event/bro-kendre-choice-birthday-3/
END:VEVENT
END:VCALENDAR