BEGIN:VCALENDAR
VERSION:2.0
PRODID:-//Zion Missionary Baptist Church - ECPv6.15.20//NONSGML v1.0//EN
CALSCALE:GREGORIAN
METHOD:PUBLISH
X-ORIGINAL-URL:https://zionmbcdallas.org
X-WR-CALDESC:Events for Zion Missionary Baptist Church
REFRESH-INTERVAL;VALUE=DURATION:PT1H
X-Robots-Tag:noindex
X-PUBLISHED-TTL:PT1H
BEGIN:VTIMEZONE
TZID:America/Chicago
BEGIN:DAYLIGHT
TZOFFSETFROM:-0600
TZOFFSETTO:-0500
TZNAME:CDT
DTSTART:20200308T080000
END:DAYLIGHT
BEGIN:STANDARD
TZOFFSETFROM:-0500
TZOFFSETTO:-0600
TZNAME:CST
DTSTART:20201101T070000
END:STANDARD
BEGIN:DAYLIGHT
TZOFFSETFROM:-0600
TZOFFSETTO:-0500
TZNAME:CDT
DTSTART:20210314T080000
END:DAYLIGHT
BEGIN:STANDARD
TZOFFSETFROM:-0500
TZOFFSETTO:-0600
TZNAME:CST
DTSTART:20211107T070000
END:STANDARD
BEGIN:DAYLIGHT
TZOFFSETFROM:-0600
TZOFFSETTO:-0500
TZNAME:CDT
DTSTART:20220313T080000
END:DAYLIGHT
BEGIN:STANDARD
TZOFFSETFROM:-0500
TZOFFSETTO:-0600
TZNAME:CST
DTSTART:20221106T070000
END:STANDARD
END:VTIMEZONE
BEGIN:VEVENT
DTSTART;VALUE=DATE:20210707
DTEND;VALUE=DATE:20210708
DTSTAMP:20260417T210133
CREATED:20210606T064901Z
LAST-MODIFIED:20210606T064901Z
UID:5263-1625616000-1625702399@zionmbcdallas.org
SUMMARY:Sis Dorothy N Mosby - Birthday
DESCRIPTION:
URL:https://zionmbcdallas.org/event/sis-dorothy-n-mosby-birthday-3/
END:VEVENT
BEGIN:VEVENT
DTSTART;VALUE=DATE:20210726
DTEND;VALUE=DATE:20210727
DTSTAMP:20260417T210133
CREATED:20210606T065017Z
LAST-MODIFIED:20210606T065017Z
UID:5266-1627257600-1627343999@zionmbcdallas.org
SUMMARY:Sis Mary Lucus - Birthday
DESCRIPTION:
URL:https://zionmbcdallas.org/event/sis-mary-lucus-birthday-3/
END:VEVENT
BEGIN:VEVENT
DTSTART;VALUE=DATE:20210727
DTEND;VALUE=DATE:20210728
DTSTAMP:20260417T210133
CREATED:20210606T065120Z
LAST-MODIFIED:20210606T065120Z
UID:5269-1627344000-1627430399@zionmbcdallas.org
SUMMARY:Sis Qukeshia Renee Jones - Birthday
DESCRIPTION:
URL:https://zionmbcdallas.org/event/sis-qukeshia-renee-jones-birthday/
END:VEVENT
END:VCALENDAR