BEGIN:VCALENDAR
VERSION:2.0
PRODID:-//Zion Missionary Baptist Church - ECPv6.15.20//NONSGML v1.0//EN
CALSCALE:GREGORIAN
METHOD:PUBLISH
X-WR-CALNAME:Zion Missionary Baptist Church
X-ORIGINAL-URL:https://zionmbcdallas.org
X-WR-CALDESC:Events for Zion Missionary Baptist Church
REFRESH-INTERVAL;VALUE=DURATION:PT1H
X-Robots-Tag:noindex
X-PUBLISHED-TTL:PT1H
BEGIN:VTIMEZONE
TZID:America/Chicago
BEGIN:DAYLIGHT
TZOFFSETFROM:-0600
TZOFFSETTO:-0500
TZNAME:CDT
DTSTART:20200308T080000
END:DAYLIGHT
BEGIN:STANDARD
TZOFFSETFROM:-0500
TZOFFSETTO:-0600
TZNAME:CST
DTSTART:20201101T070000
END:STANDARD
BEGIN:DAYLIGHT
TZOFFSETFROM:-0600
TZOFFSETTO:-0500
TZNAME:CDT
DTSTART:20210314T080000
END:DAYLIGHT
BEGIN:STANDARD
TZOFFSETFROM:-0500
TZOFFSETTO:-0600
TZNAME:CST
DTSTART:20211107T070000
END:STANDARD
BEGIN:DAYLIGHT
TZOFFSETFROM:-0600
TZOFFSETTO:-0500
TZNAME:CDT
DTSTART:20220313T080000
END:DAYLIGHT
BEGIN:STANDARD
TZOFFSETFROM:-0500
TZOFFSETTO:-0600
TZNAME:CST
DTSTART:20221106T070000
END:STANDARD
END:VTIMEZONE
BEGIN:VEVENT
DTSTART;TZID=America/Chicago:20210918T100000
DTEND;TZID=America/Chicago:20210918T120000
DTSTAMP:20260423T141514
CREATED:20210912T002818Z
LAST-MODIFIED:20210912T002818Z
UID:5445-1631959200-1631966400@zionmbcdallas.org
SUMMARY:Zion Clean Up Day
DESCRIPTION:We still have a few things to complete. If you are available and can volunteer 10:00 a.m. Saturday\, September 18\, 2021; for a Zion day. If you can Help us clean up our church. (Contact any of our deacons if you need more information).
URL:https://zionmbcdallas.org/event/zion-clean-up-day/
END:VEVENT
BEGIN:VEVENT
DTSTART;TZID=America/Chicago:20210925T100000
DTEND;TZID=America/Chicago:20210925T120000
DTSTAMP:20260423T141514
CREATED:20210912T001739Z
LAST-MODIFIED:20210912T001739Z
UID:5438-1632564000-1632571200@zionmbcdallas.org
SUMMARY:Zion Church Business Meeting
DESCRIPTION:We are requesting all members to be in attendance Saturday\, September 25\, 2021 at 10:00 a.m. for a special call business meeting.\n\n\nDiscussing:\n1. reopening plans.\n\n\n2. Urgent repairs\n\n\n3. Expenditures\n\n\n4. State of the church\n\n\nPlease pass this information to other members you come in contact with.\n\n\nPrayerfully submit Zion Deacon’s
URL:https://zionmbcdallas.org/event/zion-church-business-meeting/
END:VEVENT
END:VCALENDAR